BEGIN:VCALENDAR
VERSION:2.0
PRODID:-//habitat-2021.firespring.org//NONSGML kigkonsult.se iCalcreator 2.
 30.10//
CALSCALE:GREGORIAN
METHOD:PUBLISH
UID:650c0b74-d827-4892-9cd1-75eb8e92b361
X-WR-CALDESC:
X-WR-RELCALID:332f1a1bdd276d7a63b629b915c37beb
X-WR-TIMEZONE:America/Chicago
BEGIN:VTIMEZONE
TZID:America/Chicago
BEGIN:STANDARD
TZNAME:CST
DTSTART:20291104T020000
TZOFFSETFROM:-0500
TZOFFSETTO:-0600
RDATE:20301103T020000
END:STANDARD
BEGIN:DAYLIGHT
TZNAME:CDT
DTSTART:20290311T020000
TZOFFSETFROM:-0600
TZOFFSETTO:-0500
RDATE:20300310T020000
RDATE:20310309T020000
END:DAYLIGHT
END:VTIMEZONE
BEGIN:VEVENT
UID:eacdc4fe-984c-40c0-b36e-db0e567c2f5b
DTSTAMP:20260422T200203Z
DESCRIPTION:
DTSTART;TZID=America/Chicago:20300111T183000
DTEND;TZID=America/Chicago:20300111T200000
LOCATION:
SUMMARY:Board Meeting
END:VEVENT
END:VCALENDAR
