BEGIN:VCALENDAR
VERSION:2.0
PRODID:-//habitat-2021.firespring.org//NONSGML kigkonsult.se iCalcreator 2.
 30.10//
CALSCALE:GREGORIAN
METHOD:PUBLISH
UID:3033e12d-a886-494b-9d01-4ba9f04f0dc4
X-WR-CALDESC:
X-WR-RELCALID:bf4a67967ecacb1822b0239f78a880a5
X-WR-TIMEZONE:America/Chicago
BEGIN:VTIMEZONE
TZID:America/Chicago
BEGIN:STANDARD
TZNAME:CST
DTSTART:20291104T020000
TZOFFSETFROM:-0500
TZOFFSETTO:-0600
RDATE:20301103T020000
END:STANDARD
BEGIN:DAYLIGHT
TZNAME:CDT
DTSTART:20290311T020000
TZOFFSETFROM:-0600
TZOFFSETTO:-0500
RDATE:20300310T020000
RDATE:20310309T020000
END:DAYLIGHT
END:VTIMEZONE
BEGIN:VEVENT
UID:b3afce7b-9c82-4104-b1c3-ecd6acf84af8
DTSTAMP:20260422T201008Z
DESCRIPTION:
DTSTART;TZID=America/Chicago:20300126T090000
DTEND;TZID=America/Chicago:20300126T100000
LOCATION:
SUMMARY:Build It Day
END:VEVENT
END:VCALENDAR
