BEGIN:VCALENDAR
VERSION:2.0
PRODID:-//habitat-2021.firespring.org//NONSGML kigkonsult.se iCalcreator 2.
 30.10//
CALSCALE:GREGORIAN
METHOD:PUBLISH
UID:7ce92bbb-2bd2-45ed-8178-586d94c4f126
X-WR-CALDESC:
X-WR-RELCALID:18979bf65e0db298a27ebe3e4edf8753
X-WR-TIMEZONE:America/Chicago
BEGIN:VTIMEZONE
TZID:America/Chicago
BEGIN:STANDARD
TZNAME:CST
DTSTART:20291104T020000
TZOFFSETFROM:-0500
TZOFFSETTO:-0600
RDATE:20301103T020000
END:STANDARD
BEGIN:DAYLIGHT
TZNAME:CDT
DTSTART:20290311T020000
TZOFFSETFROM:-0600
TZOFFSETTO:-0500
RDATE:20300310T020000
RDATE:20310309T020000
END:DAYLIGHT
END:VTIMEZONE
BEGIN:VEVENT
UID:bd1d928c-fe25-4654-ad94-2ee4a45c328b
DTSTAMP:20260422T214558Z
DESCRIPTION:
DTSTART;TZID=America/Chicago:20300208T183000
DTEND;TZID=America/Chicago:20300208T200000
LOCATION:
SUMMARY:Board Meeting
END:VEVENT
END:VCALENDAR
