BEGIN:VCALENDAR
VERSION:2.0
PRODID:-//habitat-2021.firespring.org//NONSGML kigkonsult.se iCalcreator 2.
 30.10//
CALSCALE:GREGORIAN
METHOD:PUBLISH
UID:46895ef7-dc69-4440-a61b-00457da2768d
X-WR-CALDESC:
X-WR-RELCALID:251a4ad2e09717a7013e7723249a216e
X-WR-TIMEZONE:America/Chicago
BEGIN:VTIMEZONE
TZID:America/Chicago
BEGIN:STANDARD
TZNAME:CST
DTSTART:20291104T020000
TZOFFSETFROM:-0500
TZOFFSETTO:-0600
RDATE:20301103T020000
END:STANDARD
BEGIN:DAYLIGHT
TZNAME:CDT
DTSTART:20290311T020000
TZOFFSETFROM:-0600
TZOFFSETTO:-0500
RDATE:20300310T020000
RDATE:20310309T020000
END:DAYLIGHT
END:VTIMEZONE
BEGIN:VEVENT
UID:3be3b340-5e3b-4a67-b553-b9c42ebf5bcc
DTSTAMP:20260422T214541Z
DESCRIPTION:
DTSTART;TZID=America/Chicago:20300209T090000
DTEND;TZID=America/Chicago:20300209T100000
LOCATION:
SUMMARY:Build It Day
END:VEVENT
END:VCALENDAR
