BEGIN:VCALENDAR
VERSION:2.0
PRODID:-//habitat-2021.firespring.org//NONSGML kigkonsult.se iCalcreator 2.
 30.10//
CALSCALE:GREGORIAN
METHOD:PUBLISH
UID:0fe5d7a6-7327-45f3-9269-868e8c59183d
X-WR-CALDESC:
X-WR-RELCALID:cfb5fb1c0b897f26e7b3ef5804fb7301
X-WR-TIMEZONE:America/Chicago
BEGIN:VTIMEZONE
TZID:America/Chicago
BEGIN:STANDARD
TZNAME:CST
DTSTART:20291104T020000
TZOFFSETFROM:-0500
TZOFFSETTO:-0600
RDATE:20301103T020000
END:STANDARD
BEGIN:DAYLIGHT
TZNAME:CDT
DTSTART:20290311T020000
TZOFFSETFROM:-0600
TZOFFSETTO:-0500
RDATE:20300310T020000
RDATE:20310309T020000
END:DAYLIGHT
END:VTIMEZONE
BEGIN:VEVENT
UID:1334a1c0-305f-4fcc-a0e7-9d1146b5ca3e
DTSTAMP:20260422T214559Z
DESCRIPTION:
DTSTART;TZID=America/Chicago:20300223T090000
DTEND;TZID=America/Chicago:20300223T100000
LOCATION:
SUMMARY:Build It Day
END:VEVENT
END:VCALENDAR
