BEGIN:VCALENDAR
VERSION:2.0
PRODID:-//habitat-2021.firespring.org//NONSGML kigkonsult.se iCalcreator 2.
 30.10//
CALSCALE:GREGORIAN
METHOD:PUBLISH
UID:1a0d73e9-f71b-4e3b-bb21-9414d8ec436e
X-WR-CALDESC:
X-WR-RELCALID:4381fed755e5eea8c344eced525b51cf
X-WR-TIMEZONE:America/Chicago
BEGIN:VTIMEZONE
TZID:America/Chicago
BEGIN:STANDARD
TZNAME:CST
DTSTART:20291104T020000
TZOFFSETFROM:-0500
TZOFFSETTO:-0600
RDATE:20301103T020000
END:STANDARD
BEGIN:DAYLIGHT
TZNAME:CDT
DTSTART:20290311T020000
TZOFFSETFROM:-0600
TZOFFSETTO:-0500
RDATE:20300310T020000
RDATE:20310309T020000
END:DAYLIGHT
END:VTIMEZONE
BEGIN:VEVENT
UID:1bbb27e3-e7de-4934-931c-103619fbcf28
DTSTAMP:20260422T233500Z
DESCRIPTION:
DTSTART;TZID=America/Chicago:20300309T090000
DTEND;TZID=America/Chicago:20300309T100000
LOCATION:
SUMMARY:Build It Day
END:VEVENT
END:VCALENDAR
