BEGIN:VCALENDAR
VERSION:2.0
PRODID:-//habitat-2021.firespring.org//NONSGML kigkonsult.se iCalcreator 2.
 30.10//
CALSCALE:GREGORIAN
METHOD:PUBLISH
UID:21520ced-8251-4f06-a818-615b6278b160
X-WR-CALDESC:
X-WR-RELCALID:5e7bb13834a2f387068323c5db20efcd
X-WR-TIMEZONE:America/Chicago
BEGIN:VTIMEZONE
TZID:America/Chicago
BEGIN:STANDARD
TZNAME:CST
DTSTART:20291104T020000
TZOFFSETFROM:-0500
TZOFFSETTO:-0600
RDATE:20301103T020000
END:STANDARD
BEGIN:DAYLIGHT
TZNAME:CDT
DTSTART:20300310T020000
TZOFFSETFROM:-0600
TZOFFSETTO:-0500
RDATE:20310309T020000
END:DAYLIGHT
END:VTIMEZONE
BEGIN:VEVENT
UID:991267b4-5062-4a84-9326-2ff51b5627d1
DTSTAMP:20260422T233455Z
DESCRIPTION:
DTSTART;TZID=America/Chicago:20300323T090000
DTEND;TZID=America/Chicago:20300323T100000
LOCATION:
SUMMARY:Build It Day
END:VEVENT
END:VCALENDAR
