BEGIN:VCALENDAR
VERSION:2.0
PRODID:-//habitat-2021.firespring.org//NONSGML kigkonsult.se iCalcreator 2.
 30.10//
CALSCALE:GREGORIAN
METHOD:PUBLISH
UID:5156d753-c247-4dd4-b3b3-ed56bbfd94dc
X-WR-CALDESC:
X-WR-RELCALID:b0ba3f45eda33f8ede5c25da9c51f211
X-WR-TIMEZONE:America/Chicago
BEGIN:VTIMEZONE
TZID:America/Chicago
BEGIN:STANDARD
TZNAME:CST
DTSTART:20291104T020000
TZOFFSETFROM:-0500
TZOFFSETTO:-0600
RDATE:20301103T020000
END:STANDARD
BEGIN:DAYLIGHT
TZNAME:CDT
DTSTART:20300310T020000
TZOFFSETFROM:-0600
TZOFFSETTO:-0500
RDATE:20310309T020000
END:DAYLIGHT
END:VTIMEZONE
BEGIN:VEVENT
UID:89a8a60c-debc-4083-ab0c-c2e0ed09f455
DTSTAMP:20260423T012759Z
DESCRIPTION:
DTSTART;TZID=America/Chicago:20300406T090000
DTEND;TZID=America/Chicago:20300406T100000
LOCATION:
SUMMARY:Build It Day
END:VEVENT
END:VCALENDAR
