BEGIN:VCALENDAR
VERSION:2.0
PRODID:-//habitat-2021.firespring.org//NONSGML kigkonsult.se iCalcreator 2.
 30.10//
CALSCALE:GREGORIAN
METHOD:PUBLISH
UID:cb3e3930-e5f2-4674-ad7c-6aa515884cc2
X-WR-CALDESC:
X-WR-RELCALID:01bd214d0541fb21f33feb2a4db1dcb5
X-WR-TIMEZONE:America/Chicago
BEGIN:VTIMEZONE
TZID:America/Chicago
BEGIN:STANDARD
TZNAME:CST
DTSTART:20291104T020000
TZOFFSETFROM:-0500
TZOFFSETTO:-0600
RDATE:20301103T020000
END:STANDARD
BEGIN:DAYLIGHT
TZNAME:CDT
DTSTART:20300310T020000
TZOFFSETFROM:-0600
TZOFFSETTO:-0500
RDATE:20310309T020000
END:DAYLIGHT
END:VTIMEZONE
BEGIN:VEVENT
UID:3a5aa37c-4b1e-4a0d-ab6a-61f3cbc7fae0
DTSTAMP:20260423T012917Z
DESCRIPTION:
DTSTART;TZID=America/Chicago:20300412T183000
DTEND;TZID=America/Chicago:20300412T200000
LOCATION:
SUMMARY:Board Meeting
END:VEVENT
END:VCALENDAR
