BEGIN:VCALENDAR
VERSION:2.0
PRODID:-//habitat-2021.firespring.org//NONSGML kigkonsult.se iCalcreator 2.
 30.10//
CALSCALE:GREGORIAN
METHOD:PUBLISH
UID:6da1d0bf-3a22-4a72-8a7f-905dd305fdd8
X-WR-CALDESC:
X-WR-RELCALID:8e72366dcd4fd33e95824c53ce03aa87
X-WR-TIMEZONE:America/Chicago
BEGIN:VTIMEZONE
TZID:America/Chicago
BEGIN:STANDARD
TZNAME:CST
DTSTART:20291104T020000
TZOFFSETFROM:-0500
TZOFFSETTO:-0600
RDATE:20301103T020000
END:STANDARD
BEGIN:DAYLIGHT
TZNAME:CDT
DTSTART:20300310T020000
TZOFFSETFROM:-0600
TZOFFSETTO:-0500
RDATE:20310309T020000
END:DAYLIGHT
END:VTIMEZONE
BEGIN:VEVENT
UID:3bc53806-c577-43c2-b938-079728d2bf54
DTSTAMP:20260423T012911Z
DESCRIPTION:
DTSTART;TZID=America/Chicago:20300420T090000
DTEND;TZID=America/Chicago:20300420T100000
LOCATION:
SUMMARY:Build It Day
END:VEVENT
END:VCALENDAR
