BEGIN:VCALENDAR
VERSION:2.0
PRODID:-//habitat-2021.firespring.org//NONSGML kigkonsult.se iCalcreator 2.
 30.10//
CALSCALE:GREGORIAN
METHOD:PUBLISH
UID:6e74fc3e-81bd-4546-aab1-654bed69cebc
X-WR-CALDESC:
X-WR-RELCALID:145ea3a189c9032d887d721dfa8baa32
X-WR-TIMEZONE:America/Chicago
BEGIN:VTIMEZONE
TZID:America/Chicago
BEGIN:STANDARD
TZNAME:CST
DTSTART:20291104T020000
TZOFFSETFROM:-0500
TZOFFSETTO:-0600
RDATE:20301103T020000
RDATE:20311102T020000
END:STANDARD
BEGIN:DAYLIGHT
TZNAME:CDT
DTSTART:20300310T020000
TZOFFSETFROM:-0600
TZOFFSETTO:-0500
RDATE:20310309T020000
END:DAYLIGHT
END:VTIMEZONE
BEGIN:VEVENT
UID:bacf9ba1-7be3-4185-b30a-4c3a3bedf55f
DTSTAMP:20260423T030107Z
DESCRIPTION:
DTSTART;TZID=America/Chicago:20300504T090000
DTEND;TZID=America/Chicago:20300504T100000
LOCATION:
SUMMARY:Build It Day
END:VEVENT
END:VCALENDAR
