BEGIN:VCALENDAR
VERSION:2.0
PRODID:-//habitat-2021.firespring.org//NONSGML kigkonsult.se iCalcreator 2.
 30.10//
CALSCALE:GREGORIAN
METHOD:PUBLISH
UID:bd65da50-434b-47ce-82e1-c148abbab5cd
X-WR-CALDESC:
X-WR-RELCALID:418d9c07d64fd68935862d3ac4c5b6d3
X-WR-TIMEZONE:America/Chicago
BEGIN:VTIMEZONE
TZID:America/Chicago
BEGIN:STANDARD
TZNAME:CST
DTSTART:20291104T020000
TZOFFSETFROM:-0500
TZOFFSETTO:-0600
RDATE:20301103T020000
RDATE:20311102T020000
END:STANDARD
BEGIN:DAYLIGHT
TZNAME:CDT
DTSTART:20300310T020000
TZOFFSETFROM:-0600
TZOFFSETTO:-0500
RDATE:20310309T020000
END:DAYLIGHT
END:VTIMEZONE
BEGIN:VEVENT
UID:035a9cec-c06d-4988-9c6c-1cc7cc4f48cb
DTSTAMP:20260425T103124Z
DESCRIPTION:
DTSTART;TZID=America/Chicago:20300510T183000
DTEND;TZID=America/Chicago:20300510T200000
LOCATION:
SUMMARY:Board Meeting
END:VEVENT
END:VCALENDAR
