BEGIN:VCALENDAR
VERSION:2.0
PRODID:-//habitat-2021.firespring.org//NONSGML kigkonsult.se iCalcreator 2.
 30.10//
CALSCALE:GREGORIAN
METHOD:PUBLISH
UID:c1df92f8-98de-4cd3-8943-d35c3678e062
X-WR-CALDESC:
X-WR-RELCALID:435485fb62a6d59da2659aeca0933bdb
X-WR-TIMEZONE:America/Chicago
BEGIN:VTIMEZONE
TZID:America/Chicago
BEGIN:STANDARD
TZNAME:CST
DTSTART:20291104T020000
TZOFFSETFROM:-0500
TZOFFSETTO:-0600
RDATE:20301103T020000
RDATE:20311102T020000
END:STANDARD
BEGIN:DAYLIGHT
TZNAME:CDT
DTSTART:20300310T020000
TZOFFSETFROM:-0600
TZOFFSETTO:-0500
RDATE:20310309T020000
END:DAYLIGHT
END:VTIMEZONE
BEGIN:VEVENT
UID:b44feca4-ba03-4c18-b187-3be834b141a2
DTSTAMP:20260423T030732Z
DESCRIPTION:
DTSTART;TZID=America/Chicago:20300518T090000
DTEND;TZID=America/Chicago:20300518T100000
LOCATION:
SUMMARY:Build It Day
END:VEVENT
END:VCALENDAR
