BEGIN:VCALENDAR
VERSION:2.0
PRODID:-//habitat-2021.firespring.org//NONSGML kigkonsult.se iCalcreator 2.
 30.10//
CALSCALE:GREGORIAN
METHOD:PUBLISH
UID:db1a9010-07b2-41b3-b999-aacaf5acc55f
X-WR-CALDESC:
X-WR-RELCALID:ef09906ca82799bbe2f6db42a698a55e
X-WR-TIMEZONE:America/Chicago
BEGIN:VTIMEZONE
TZID:America/Chicago
BEGIN:STANDARD
TZNAME:CST
DTSTART:20291104T020000
TZOFFSETFROM:-0500
TZOFFSETTO:-0600
RDATE:20301103T020000
RDATE:20311102T020000
END:STANDARD
BEGIN:DAYLIGHT
TZNAME:CDT
DTSTART:20300310T020000
TZOFFSETFROM:-0600
TZOFFSETTO:-0500
RDATE:20310309T020000
END:DAYLIGHT
END:VTIMEZONE
BEGIN:VEVENT
UID:ec823693-ec06-4c57-a127-89b54d8a75b8
DTSTAMP:20260423T051340Z
DESCRIPTION:
DTSTART;TZID=America/Chicago:20300601T090000
DTEND;TZID=America/Chicago:20300601T100000
LOCATION:
SUMMARY:Build It Day
END:VEVENT
END:VCALENDAR
