BEGIN:VCALENDAR
VERSION:2.0
PRODID:-//habitat-2021.firespring.org//NONSGML kigkonsult.se iCalcreator 2.
 30.10//
CALSCALE:GREGORIAN
METHOD:PUBLISH
UID:2233cb59-ca9a-4162-8701-8d12538fbecb
X-WR-CALDESC:
X-WR-RELCALID:1f96ce97aa6ed160cd45b762b3589d14
X-WR-TIMEZONE:America/Chicago
BEGIN:VTIMEZONE
TZID:America/Chicago
BEGIN:STANDARD
TZNAME:CST
DTSTART:20291104T020000
TZOFFSETFROM:-0500
TZOFFSETTO:-0600
RDATE:20301103T020000
RDATE:20311102T020000
END:STANDARD
BEGIN:DAYLIGHT
TZNAME:CDT
DTSTART:20300310T020000
TZOFFSETFROM:-0600
TZOFFSETTO:-0500
RDATE:20310309T020000
END:DAYLIGHT
END:VTIMEZONE
BEGIN:VEVENT
UID:c0afa69c-0df0-4477-b29a-6931a69a0e39
DTSTAMP:20260423T051421Z
DESCRIPTION:
DTSTART;TZID=America/Chicago:20300614T183000
DTEND;TZID=America/Chicago:20300614T200000
LOCATION:
SUMMARY:Board Meeting
END:VEVENT
END:VCALENDAR
