BEGIN:VCALENDAR
VERSION:2.0
PRODID:-//habitat-2021.firespring.org//NONSGML kigkonsult.se iCalcreator 2.
 30.10//
CALSCALE:GREGORIAN
METHOD:PUBLISH
UID:8452797f-5434-4ccc-b4e4-4802087f328e
X-WR-CALDESC:
X-WR-RELCALID:8934f80613163915ad98f8920669f5ff
X-WR-TIMEZONE:America/Chicago
BEGIN:VTIMEZONE
TZID:America/Chicago
BEGIN:STANDARD
TZNAME:CST
DTSTART:20291104T020000
TZOFFSETFROM:-0500
TZOFFSETTO:-0600
RDATE:20301103T020000
RDATE:20311102T020000
END:STANDARD
BEGIN:DAYLIGHT
TZNAME:CDT
DTSTART:20300310T020000
TZOFFSETFROM:-0600
TZOFFSETTO:-0500
RDATE:20310309T020000
END:DAYLIGHT
END:VTIMEZONE
BEGIN:VEVENT
UID:d5ce4a22-518e-4e02-b55a-6a270ffbebac
DTSTAMP:20260423T044752Z
DESCRIPTION:
DTSTART;TZID=America/Chicago:20300629T090000
DTEND;TZID=America/Chicago:20300629T100000
LOCATION:
SUMMARY:Build It Day
END:VEVENT
END:VCALENDAR
