BEGIN:VCALENDAR
VERSION:2.0
PRODID:-//habitat-2021.firespring.org//NONSGML kigkonsult.se iCalcreator 2.
 30.10//
CALSCALE:GREGORIAN
METHOD:PUBLISH
UID:bde8e9d5-4caf-4f3a-9142-ffc788f64061
X-WR-CALDESC:
X-WR-RELCALID:c4cbd7bbd9fcb2bffa99b7df23a22e05
X-WR-TIMEZONE:America/Chicago
BEGIN:VTIMEZONE
TZID:America/Chicago
BEGIN:STANDARD
TZNAME:CST
DTSTART:20291104T020000
TZOFFSETFROM:-0500
TZOFFSETTO:-0600
RDATE:20301103T020000
RDATE:20311102T020000
END:STANDARD
BEGIN:DAYLIGHT
TZNAME:CDT
DTSTART:20300310T020000
TZOFFSETFROM:-0600
TZOFFSETTO:-0500
RDATE:20310309T020000
END:DAYLIGHT
END:VTIMEZONE
BEGIN:VEVENT
UID:b31b274d-2cb4-45b0-8a46-ea44fd4b71d8
DTSTAMP:20260423T065012Z
DESCRIPTION:
DTSTART;TZID=America/Chicago:20300712T183000
DTEND;TZID=America/Chicago:20300712T200000
LOCATION:
SUMMARY:Board Meeting
END:VEVENT
END:VCALENDAR
