BEGIN:VCALENDAR
VERSION:2.0
PRODID:-//habitat-2021.firespring.org//NONSGML kigkonsult.se iCalcreator 2.
 30.10//
CALSCALE:GREGORIAN
METHOD:PUBLISH
UID:2159445e-b82f-426c-8de0-453257186fe3
X-WR-CALDESC:
X-WR-RELCALID:ef750a46d1c4d20f165b417d260d4052
X-WR-TIMEZONE:America/Chicago
BEGIN:VTIMEZONE
TZID:America/Chicago
BEGIN:STANDARD
TZNAME:CST
DTSTART:20291104T020000
TZOFFSETFROM:-0500
TZOFFSETTO:-0600
RDATE:20301103T020000
RDATE:20311102T020000
END:STANDARD
BEGIN:DAYLIGHT
TZNAME:CDT
DTSTART:20300310T020000
TZOFFSETFROM:-0600
TZOFFSETTO:-0500
RDATE:20310309T020000
END:DAYLIGHT
END:VTIMEZONE
BEGIN:VEVENT
UID:c9aba7c7-c7ff-4188-aa1a-f63528743d88
DTSTAMP:20260423T065003Z
DESCRIPTION:
DTSTART;TZID=America/Chicago:20300713T090000
DTEND;TZID=America/Chicago:20300713T100000
LOCATION:
SUMMARY:Build It Day
END:VEVENT
END:VCALENDAR
