BEGIN:VCALENDAR
VERSION:2.0
PRODID:-//habitat-2021.firespring.org//NONSGML kigkonsult.se iCalcreator 2.
 30.10//
CALSCALE:GREGORIAN
METHOD:PUBLISH
UID:f8352e37-ce41-420d-9933-34a7c23967e4
X-WR-CALDESC:
X-WR-RELCALID:021fd8cb966c0ad60b41f112d1fb3225
X-WR-TIMEZONE:America/Chicago
BEGIN:VTIMEZONE
TZID:America/Chicago
BEGIN:STANDARD
TZNAME:CST
DTSTART:20291104T020000
TZOFFSETFROM:-0500
TZOFFSETTO:-0600
RDATE:20301103T020000
RDATE:20311102T020000
END:STANDARD
BEGIN:DAYLIGHT
TZNAME:CDT
DTSTART:20300310T020000
TZOFFSETFROM:-0600
TZOFFSETTO:-0500
RDATE:20310309T020000
END:DAYLIGHT
END:VTIMEZONE
BEGIN:VEVENT
UID:a696ba44-a9e2-478b-af5f-51a2d7f60bf1
DTSTAMP:20260423T065002Z
DESCRIPTION:
DTSTART;TZID=America/Chicago:20300727T090000
DTEND;TZID=America/Chicago:20300727T100000
LOCATION:
SUMMARY:Build It Day
END:VEVENT
END:VCALENDAR
