BEGIN:VCALENDAR
VERSION:2.0
PRODID:-//habitat-2021.firespring.org//NONSGML kigkonsult.se iCalcreator 2.
 30.10//
CALSCALE:GREGORIAN
METHOD:PUBLISH
UID:f4bd1299-6468-47b2-a0f2-34b431f6d3ce
X-WR-CALDESC:
X-WR-RELCALID:e666ecb32e9f02f224b66f739cd626a5
X-WR-TIMEZONE:America/Chicago
BEGIN:VTIMEZONE
TZID:America/Chicago
BEGIN:STANDARD
TZNAME:CST
DTSTART:20291104T020000
TZOFFSETFROM:-0500
TZOFFSETTO:-0600
RDATE:20301103T020000
RDATE:20311102T020000
END:STANDARD
BEGIN:DAYLIGHT
TZNAME:CDT
DTSTART:20300310T020000
TZOFFSETFROM:-0600
TZOFFSETTO:-0500
RDATE:20310309T020000
END:DAYLIGHT
END:VTIMEZONE
BEGIN:VEVENT
UID:7c53bbea-653d-4789-bc08-7f1a55a54ca2
DTSTAMP:20260423T080629Z
DESCRIPTION:
DTSTART;TZID=America/Chicago:20300809T183000
DTEND;TZID=America/Chicago:20300809T200000
LOCATION:
SUMMARY:Board Meeting
END:VEVENT
END:VCALENDAR
