BEGIN:VCALENDAR
VERSION:2.0
PRODID:-//habitat-2021.firespring.org//NONSGML kigkonsult.se iCalcreator 2.
 30.10//
CALSCALE:GREGORIAN
METHOD:PUBLISH
UID:975dd211-7f07-403d-bf34-368bfddb1745
X-WR-CALDESC:
X-WR-RELCALID:ff9cbf895abf53039b5272f5ca14df31
X-WR-TIMEZONE:America/Chicago
BEGIN:VTIMEZONE
TZID:America/Chicago
BEGIN:STANDARD
TZNAME:CST
DTSTART:20291104T020000
TZOFFSETFROM:-0500
TZOFFSETTO:-0600
RDATE:20301103T020000
RDATE:20311102T020000
END:STANDARD
BEGIN:DAYLIGHT
TZNAME:CDT
DTSTART:20300310T020000
TZOFFSETFROM:-0600
TZOFFSETTO:-0500
RDATE:20310309T020000
END:DAYLIGHT
END:VTIMEZONE
BEGIN:VEVENT
UID:4d821799-8942-4435-b6e9-8310c4ad4e89
DTSTAMP:20260423T073525Z
DESCRIPTION:
DTSTART;TZID=America/Chicago:20300810T090000
DTEND;TZID=America/Chicago:20300810T100000
LOCATION:
SUMMARY:Build It Day
END:VEVENT
END:VCALENDAR
