BEGIN:VCALENDAR
VERSION:2.0
PRODID:-//habitat-2021.firespring.org//NONSGML kigkonsult.se iCalcreator 2.
 30.10//
CALSCALE:GREGORIAN
METHOD:PUBLISH
UID:02bf8b9b-0964-4b2c-bb99-05a9e38ee542
X-WR-CALDESC:
X-WR-RELCALID:be1225cd05bdf7e1ca602f58e6e6b409
X-WR-TIMEZONE:America/Chicago
BEGIN:VTIMEZONE
TZID:America/Chicago
BEGIN:STANDARD
TZNAME:CST
DTSTART:20291104T020000
TZOFFSETFROM:-0500
TZOFFSETTO:-0600
RDATE:20301103T020000
RDATE:20311102T020000
END:STANDARD
BEGIN:DAYLIGHT
TZNAME:CDT
DTSTART:20300310T020000
TZOFFSETFROM:-0600
TZOFFSETTO:-0500
RDATE:20310309T020000
END:DAYLIGHT
END:VTIMEZONE
BEGIN:VEVENT
UID:2e5d7d58-2d89-4d7e-9198-8f08876e78c8
DTSTAMP:20260423T075729Z
DESCRIPTION:
DTSTART;TZID=America/Chicago:20300824T090000
DTEND;TZID=America/Chicago:20300824T100000
LOCATION:
SUMMARY:Build It Day
END:VEVENT
END:VCALENDAR
