BEGIN:VCALENDAR
VERSION:2.0
PRODID:-//habitat-2021.firespring.org//NONSGML kigkonsult.se iCalcreator 2.
 30.10//
CALSCALE:GREGORIAN
METHOD:PUBLISH
UID:3ae358de-37a1-4da0-8a61-15b423d483bc
X-WR-CALDESC:
X-WR-RELCALID:d21db56adea68434df1053f023833f19
X-WR-TIMEZONE:America/Chicago
BEGIN:VTIMEZONE
TZID:America/Chicago
BEGIN:STANDARD
TZNAME:CST
DTSTART:20291104T020000
TZOFFSETFROM:-0500
TZOFFSETTO:-0600
RDATE:20301103T020000
RDATE:20311102T020000
END:STANDARD
BEGIN:DAYLIGHT
TZNAME:CDT
DTSTART:20300310T020000
TZOFFSETFROM:-0600
TZOFFSETTO:-0500
RDATE:20310309T020000
END:DAYLIGHT
END:VTIMEZONE
BEGIN:VEVENT
UID:9cb9ea3d-52d0-402d-b57a-a9b098b78ba7
DTSTAMP:20260423T093202Z
DESCRIPTION:
DTSTART;TZID=America/Chicago:20300907T090000
DTEND;TZID=America/Chicago:20300907T100000
LOCATION:
SUMMARY:Build It Day
END:VEVENT
END:VCALENDAR
