BEGIN:VCALENDAR
VERSION:2.0
PRODID:-//habitat-2021.firespring.org//NONSGML kigkonsult.se iCalcreator 2.
 30.10//
CALSCALE:GREGORIAN
METHOD:PUBLISH
UID:a49b5c26-2458-48b6-8e98-0807dfd36cbc
X-WR-CALDESC:
X-WR-RELCALID:2f2bf2567a7506cfb42a54967f70955f
X-WR-TIMEZONE:America/Chicago
BEGIN:VTIMEZONE
TZID:America/Chicago
BEGIN:STANDARD
TZNAME:CST
DTSTART:20291104T020000
TZOFFSETFROM:-0500
TZOFFSETTO:-0600
RDATE:20301103T020000
RDATE:20311102T020000
END:STANDARD
BEGIN:DAYLIGHT
TZNAME:CDT
DTSTART:20300310T020000
TZOFFSETFROM:-0600
TZOFFSETTO:-0500
RDATE:20310309T020000
RDATE:20320314T020000
END:DAYLIGHT
END:VTIMEZONE
BEGIN:VEVENT
UID:1f203fc1-52c9-4554-9ca8-0e27103457f1
DTSTAMP:20260423T092435Z
DESCRIPTION:
DTSTART;TZID=America/Chicago:20300913T183000
DTEND;TZID=America/Chicago:20300913T200000
LOCATION:
SUMMARY:Board Meeting
END:VEVENT
END:VCALENDAR
