BEGIN:VCALENDAR
VERSION:2.0
PRODID:-//habitat-2021.firespring.org//NONSGML kigkonsult.se iCalcreator 2.
 30.10//
CALSCALE:GREGORIAN
METHOD:PUBLISH
UID:d17669a7-aeaf-4004-8ea3-c615fda3ea90
X-WR-CALDESC:
X-WR-RELCALID:4c27233d87e30223cb853b83835b037f
X-WR-TIMEZONE:America/Chicago
BEGIN:VTIMEZONE
TZID:America/Chicago
BEGIN:STANDARD
TZNAME:CST
DTSTART:20291104T020000
TZOFFSETFROM:-0500
TZOFFSETTO:-0600
RDATE:20301103T020000
RDATE:20311102T020000
END:STANDARD
BEGIN:DAYLIGHT
TZNAME:CDT
DTSTART:20300310T020000
TZOFFSETFROM:-0600
TZOFFSETTO:-0500
RDATE:20310309T020000
RDATE:20320314T020000
END:DAYLIGHT
END:VTIMEZONE
BEGIN:VEVENT
UID:aa702c38-54ab-4b6f-ac9c-b4f37c8d0085
DTSTAMP:20260423T104846Z
DESCRIPTION:
DTSTART;TZID=America/Chicago:20301005T090000
DTEND;TZID=America/Chicago:20301005T100000
LOCATION:
SUMMARY:Build It Day
END:VEVENT
END:VCALENDAR
