BEGIN:VCALENDAR
VERSION:2.0
PRODID:-//habitat-2021.firespring.org//NONSGML kigkonsult.se iCalcreator 2.
 30.10//
CALSCALE:GREGORIAN
METHOD:PUBLISH
UID:7f91e189-872d-443d-a967-942fd76ec37b
X-WR-CALDESC:
X-WR-RELCALID:2308a8eb2c6523903deca75037f0b323
X-WR-TIMEZONE:America/Chicago
BEGIN:VTIMEZONE
TZID:America/Chicago
BEGIN:STANDARD
TZNAME:CST
DTSTART:20291104T020000
TZOFFSETFROM:-0500
TZOFFSETTO:-0600
RDATE:20301103T020000
RDATE:20311102T020000
END:STANDARD
BEGIN:DAYLIGHT
TZNAME:CDT
DTSTART:20300310T020000
TZOFFSETFROM:-0600
TZOFFSETTO:-0500
RDATE:20310309T020000
RDATE:20320314T020000
END:DAYLIGHT
END:VTIMEZONE
BEGIN:VEVENT
UID:2f584a5e-d7ba-4434-b146-34e134f79cce
DTSTAMP:20260423T104959Z
DESCRIPTION:
DTSTART;TZID=America/Chicago:20301011T183000
DTEND;TZID=America/Chicago:20301011T200000
LOCATION:
SUMMARY:Board Meeting
END:VEVENT
END:VCALENDAR
