BEGIN:VCALENDAR
VERSION:2.0
PRODID:-//habitat-2021.firespring.org//NONSGML kigkonsult.se iCalcreator 2.
 30.10//
CALSCALE:GREGORIAN
METHOD:PUBLISH
UID:96225db8-818c-44a2-a43e-ecfc47a5892f
X-WR-CALDESC:
X-WR-RELCALID:aa4f017abf0fbfc7266686a14d4eccca
X-WR-TIMEZONE:America/Chicago
BEGIN:VTIMEZONE
TZID:America/Chicago
BEGIN:STANDARD
TZNAME:CST
DTSTART:20291104T020000
TZOFFSETFROM:-0500
TZOFFSETTO:-0600
RDATE:20301103T020000
RDATE:20311102T020000
END:STANDARD
BEGIN:DAYLIGHT
TZNAME:CDT
DTSTART:20300310T020000
TZOFFSETFROM:-0600
TZOFFSETTO:-0500
RDATE:20310309T020000
RDATE:20320314T020000
END:DAYLIGHT
END:VTIMEZONE
BEGIN:VEVENT
UID:dac059c7-a8b6-4cfe-b5e2-b08ae0b3e803
DTSTAMP:20260423T104749Z
DESCRIPTION:
DTSTART;TZID=America/Chicago:20301019T090000
DTEND;TZID=America/Chicago:20301019T100000
LOCATION:
SUMMARY:Build It Day
END:VEVENT
END:VCALENDAR
