BEGIN:VCALENDAR
VERSION:2.0
PRODID:-//habitat-2021.firespring.org//NONSGML kigkonsult.se iCalcreator 2.
 30.10//
CALSCALE:GREGORIAN
METHOD:PUBLISH
UID:2d02dda7-c54b-4f0e-bd10-618ebd58931f
X-WR-CALDESC:
X-WR-RELCALID:71ca575e918308d2018b276bdfc351a9
X-WR-TIMEZONE:America/Chicago
BEGIN:VTIMEZONE
TZID:America/Chicago
BEGIN:STANDARD
TZNAME:CST
DTSTART:20291104T020000
TZOFFSETFROM:-0500
TZOFFSETTO:-0600
RDATE:20301103T020000
RDATE:20311102T020000
END:STANDARD
BEGIN:DAYLIGHT
TZNAME:CDT
DTSTART:20300310T020000
TZOFFSETFROM:-0600
TZOFFSETTO:-0500
RDATE:20310309T020000
RDATE:20320314T020000
END:DAYLIGHT
END:VTIMEZONE
BEGIN:VEVENT
UID:c7d4f707-6eec-4e72-8aed-236e5a26e87f
DTSTAMP:20260423T120440Z
DESCRIPTION:
DTSTART;TZID=America/Chicago:20301102T090000
DTEND;TZID=America/Chicago:20301102T100000
LOCATION:
SUMMARY:Build It Day
END:VEVENT
END:VCALENDAR
