BEGIN:VCALENDAR
VERSION:2.0
PRODID:-//habitat-2021.firespring.org//NONSGML kigkonsult.se iCalcreator 2.
 30.10//
CALSCALE:GREGORIAN
METHOD:PUBLISH
UID:cec89c1c-8e9c-47a6-a9e9-6027068bb077
X-WR-CALDESC:
X-WR-RELCALID:1dd824a5c972e736c48a329a62a8b00d
X-WR-TIMEZONE:America/Chicago
BEGIN:VTIMEZONE
TZID:America/Chicago
BEGIN:STANDARD
TZNAME:CST
DTSTART:20301103T020000
TZOFFSETFROM:-0500
TZOFFSETTO:-0600
RDATE:20311102T020000
END:STANDARD
BEGIN:DAYLIGHT
TZNAME:CDT
DTSTART:20300310T020000
TZOFFSETFROM:-0600
TZOFFSETTO:-0500
RDATE:20310309T020000
RDATE:20320314T020000
END:DAYLIGHT
END:VTIMEZONE
BEGIN:VEVENT
UID:49aa0630-1ba9-4b18-a2fb-b52ad8489bbf
DTSTAMP:20260423T120825Z
DESCRIPTION:
DTSTART;TZID=America/Chicago:20301108T183000
DTEND;TZID=America/Chicago:20301108T200000
LOCATION:
SUMMARY:Board Meeting
END:VEVENT
END:VCALENDAR
