BEGIN:VCALENDAR
VERSION:2.0
PRODID:-//habitat-2021.firespring.org//NONSGML kigkonsult.se iCalcreator 2.
 30.10//
CALSCALE:GREGORIAN
METHOD:PUBLISH
UID:53397492-ddce-43eb-ae68-cf95dc8d80eb
X-WR-CALDESC:
X-WR-RELCALID:9e64da4302d4dd9bb1a519bba1ea32c6
X-WR-TIMEZONE:America/Chicago
BEGIN:VTIMEZONE
TZID:America/Chicago
BEGIN:STANDARD
TZNAME:CST
DTSTART:20301103T020000
TZOFFSETFROM:-0500
TZOFFSETTO:-0600
RDATE:20311102T020000
END:STANDARD
BEGIN:DAYLIGHT
TZNAME:CDT
DTSTART:20300310T020000
TZOFFSETFROM:-0600
TZOFFSETTO:-0500
RDATE:20310309T020000
RDATE:20320314T020000
END:DAYLIGHT
END:VTIMEZONE
BEGIN:VEVENT
UID:825a3302-7829-45c7-83a4-200eaf12220d
DTSTAMP:20260423T120734Z
DESCRIPTION:
DTSTART;TZID=America/Chicago:20301130T090000
DTEND;TZID=America/Chicago:20301130T100000
LOCATION:
SUMMARY:Build It Day
END:VEVENT
END:VCALENDAR
