BEGIN:VCALENDAR
VERSION:2.0
PRODID:-//habitat-2021.firespring.org//NONSGML kigkonsult.se iCalcreator 2.
 30.10//
CALSCALE:GREGORIAN
METHOD:PUBLISH
UID:501b1f50-a580-46f4-9dda-4dbf8c57a096
X-WR-CALDESC:
X-WR-RELCALID:5c0b76a78d6658e385dee041ae8a8bd0
X-WR-TIMEZONE:America/Chicago
BEGIN:VTIMEZONE
TZID:America/Chicago
BEGIN:STANDARD
TZNAME:CST
DTSTART:20301103T020000
TZOFFSETFROM:-0500
TZOFFSETTO:-0600
RDATE:20311102T020000
END:STANDARD
BEGIN:DAYLIGHT
TZNAME:CDT
DTSTART:20300310T020000
TZOFFSETFROM:-0600
TZOFFSETTO:-0500
RDATE:20310309T020000
RDATE:20320314T020000
END:DAYLIGHT
END:VTIMEZONE
BEGIN:VEVENT
UID:1836cbb7-ca33-4a7d-b13c-e668308b717e
DTSTAMP:20260423T134954Z
DESCRIPTION:
DTSTART;TZID=America/Chicago:20301214T090000
DTEND;TZID=America/Chicago:20301214T100000
LOCATION:
SUMMARY:Build It Day
END:VEVENT
END:VCALENDAR
