BEGIN:VCALENDAR
VERSION:2.0
PRODID:-//habitat-2021.firespring.org//NONSGML kigkonsult.se iCalcreator 2.
 30.10//
CALSCALE:GREGORIAN
METHOD:PUBLISH
UID:1e0e45c4-424a-40a2-abc3-18e8f2ff6d5c
X-WR-CALDESC:
X-WR-RELCALID:9759e6ac5bec628b6c6d145ddf74ab32
X-WR-TIMEZONE:America/Chicago
BEGIN:VTIMEZONE
TZID:America/Chicago
BEGIN:STANDARD
TZNAME:CST
DTSTART:20301103T020000
TZOFFSETFROM:-0500
TZOFFSETTO:-0600
RDATE:20311102T020000
END:STANDARD
BEGIN:DAYLIGHT
TZNAME:CDT
DTSTART:20300310T020000
TZOFFSETFROM:-0600
TZOFFSETTO:-0500
RDATE:20310309T020000
RDATE:20320314T020000
END:DAYLIGHT
END:VTIMEZONE
BEGIN:VEVENT
UID:2fe9f458-d05d-4229-848f-88ec2b15f1de
DTSTAMP:20260423T135229Z
DESCRIPTION:
DTSTART;TZID=America/Chicago:20301228T090000
DTEND;TZID=America/Chicago:20301228T100000
LOCATION:
SUMMARY:Build It Day
END:VEVENT
END:VCALENDAR
