BEGIN:VCALENDAR
VERSION:2.0
PRODID:-//habitat-2021.firespring.org//NONSGML kigkonsult.se iCalcreator 2.
 30.10//
CALSCALE:GREGORIAN
METHOD:PUBLISH
UID:b26538aa-a486-40f8-9f76-5c7d7023ead1
X-WR-CALDESC:
X-WR-RELCALID:7b6c7e1de7859538580bbd93b134245a
X-WR-TIMEZONE:America/Chicago
BEGIN:VTIMEZONE
TZID:America/Chicago
BEGIN:STANDARD
TZNAME:CST
DTSTART:20301103T020000
TZOFFSETFROM:-0500
TZOFFSETTO:-0600
RDATE:20311102T020000
END:STANDARD
BEGIN:DAYLIGHT
TZNAME:CDT
DTSTART:20300310T020000
TZOFFSETFROM:-0600
TZOFFSETTO:-0500
RDATE:20310309T020000
RDATE:20320314T020000
END:DAYLIGHT
END:VTIMEZONE
BEGIN:VEVENT
UID:15538607-8429-42ac-81c7-e423ad340cd7
DTSTAMP:20260423T145808Z
DESCRIPTION:
DTSTART;TZID=America/Chicago:20310110T183000
DTEND;TZID=America/Chicago:20310110T200000
LOCATION:
SUMMARY:Board Meeting
END:VEVENT
END:VCALENDAR
