BEGIN:VCALENDAR
VERSION:2.0
PRODID:-//habitat-2021.firespring.org//NONSGML kigkonsult.se iCalcreator 2.
 30.10//
CALSCALE:GREGORIAN
METHOD:PUBLISH
UID:5dc18330-6b55-4034-9a14-9c2f3aff34e5
X-WR-CALDESC:
X-WR-RELCALID:029626b8a9dc0a809b317bc5856ce131
X-WR-TIMEZONE:America/Chicago
BEGIN:VTIMEZONE
TZID:America/Chicago
BEGIN:STANDARD
TZNAME:CST
DTSTART:20301103T020000
TZOFFSETFROM:-0500
TZOFFSETTO:-0600
RDATE:20311102T020000
END:STANDARD
BEGIN:DAYLIGHT
TZNAME:CDT
DTSTART:20300310T020000
TZOFFSETFROM:-0600
TZOFFSETTO:-0500
RDATE:20310309T020000
RDATE:20320314T020000
END:DAYLIGHT
END:VTIMEZONE
BEGIN:VEVENT
UID:49780b96-6bf3-4d17-a307-b9ffdd6f1eef
DTSTAMP:20260423T150315Z
DESCRIPTION:
DTSTART;TZID=America/Chicago:20310111T090000
DTEND;TZID=America/Chicago:20310111T100000
LOCATION:
SUMMARY:Build It Day
END:VEVENT
END:VCALENDAR
