BEGIN:VCALENDAR
VERSION:2.0
PRODID:-//habitat-2021.firespring.org//NONSGML kigkonsult.se iCalcreator 2.
 30.10//
CALSCALE:GREGORIAN
METHOD:PUBLISH
UID:2b763bc6-2374-477d-8e32-73cd563f910e
X-WR-CALDESC:
X-WR-RELCALID:379275c3a5bc9b5fa3f31f31daa4c978
X-WR-TIMEZONE:America/Chicago
BEGIN:VTIMEZONE
TZID:America/Chicago
BEGIN:STANDARD
TZNAME:CST
DTSTART:20301103T020000
TZOFFSETFROM:-0500
TZOFFSETTO:-0600
RDATE:20311102T020000
END:STANDARD
BEGIN:DAYLIGHT
TZNAME:CDT
DTSTART:20300310T020000
TZOFFSETFROM:-0600
TZOFFSETTO:-0500
RDATE:20310309T020000
RDATE:20320314T020000
END:DAYLIGHT
END:VTIMEZONE
BEGIN:VEVENT
UID:02fa4172-6b90-418e-871a-92b007fea68e
DTSTAMP:20260423T150827Z
DESCRIPTION:
DTSTART;TZID=America/Chicago:20310125T090000
DTEND;TZID=America/Chicago:20310125T100000
LOCATION:
SUMMARY:Build It Day
END:VEVENT
END:VCALENDAR
