BEGIN:VCALENDAR
VERSION:2.0
PRODID:-//habitat-2021.firespring.org//NONSGML kigkonsult.se iCalcreator 2.
 30.10//
CALSCALE:GREGORIAN
METHOD:PUBLISH
UID:4d08f447-c546-4e3e-9334-981c726a8dbb
X-WR-CALDESC:
X-WR-RELCALID:c4a3374288e66adc8e3e3582efc6f5c7
X-WR-TIMEZONE:America/Chicago
BEGIN:VTIMEZONE
TZID:America/Chicago
BEGIN:STANDARD
TZNAME:CST
DTSTART:20301103T020000
TZOFFSETFROM:-0500
TZOFFSETTO:-0600
RDATE:20311102T020000
END:STANDARD
BEGIN:DAYLIGHT
TZNAME:CDT
DTSTART:20300310T020000
TZOFFSETFROM:-0600
TZOFFSETTO:-0500
RDATE:20310309T020000
RDATE:20320314T020000
END:DAYLIGHT
END:VTIMEZONE
BEGIN:VEVENT
UID:a3a9ba7b-cba2-4201-80b7-f305cb22e00c
DTSTAMP:20260423T165028Z
DESCRIPTION:
DTSTART;TZID=America/Chicago:20310214T183000
DTEND;TZID=America/Chicago:20310214T200000
LOCATION:
SUMMARY:Board Meeting
END:VEVENT
END:VCALENDAR
