BEGIN:VCALENDAR
VERSION:2.0
PRODID:-//habitat-2021.firespring.org//NONSGML kigkonsult.se iCalcreator 2.
 30.10//
CALSCALE:GREGORIAN
METHOD:PUBLISH
UID:6de504b5-23df-4a61-94b9-1c9302ad0232
X-WR-CALDESC:
X-WR-RELCALID:a90312a748c8c941f58675cc28a6ce5f
X-WR-TIMEZONE:America/Chicago
BEGIN:VTIMEZONE
TZID:America/Chicago
BEGIN:STANDARD
TZNAME:CST
DTSTART:20301103T020000
TZOFFSETFROM:-0500
TZOFFSETTO:-0600
RDATE:20311102T020000
END:STANDARD
BEGIN:DAYLIGHT
TZNAME:CDT
DTSTART:20300310T020000
TZOFFSETFROM:-0600
TZOFFSETTO:-0500
RDATE:20310309T020000
RDATE:20320314T020000
END:DAYLIGHT
END:VTIMEZONE
BEGIN:VEVENT
UID:53f17b36-6e92-4a0a-9933-9a364185278f
DTSTAMP:20260423T164926Z
DESCRIPTION:
DTSTART;TZID=America/Chicago:20310222T090000
DTEND;TZID=America/Chicago:20310222T100000
LOCATION:
SUMMARY:Build It Day
END:VEVENT
END:VCALENDAR
