BEGIN:VCALENDAR
VERSION:2.0
PRODID:-//habitat-2021.firespring.org//NONSGML kigkonsult.se iCalcreator 2.
 30.10//
CALSCALE:GREGORIAN
METHOD:PUBLISH
UID:ac3d2930-cd0c-4803-a0a4-f162d939715f
X-WR-CALDESC:
X-WR-RELCALID:47655599cf8219eafb905c8221f7c8e1
X-WR-TIMEZONE:America/Chicago
BEGIN:VTIMEZONE
TZID:America/Chicago
BEGIN:STANDARD
TZNAME:CST
DTSTART:20301103T020000
TZOFFSETFROM:-0500
TZOFFSETTO:-0600
RDATE:20311102T020000
END:STANDARD
BEGIN:DAYLIGHT
TZNAME:CDT
DTSTART:20310309T020000
TZOFFSETFROM:-0600
TZOFFSETTO:-0500
RDATE:20320314T020000
END:DAYLIGHT
END:VTIMEZONE
BEGIN:VEVENT
UID:a752cd84-7713-4737-8b75-5da236bf431a
DTSTAMP:20260423T181547Z
DESCRIPTION:
DTSTART;TZID=America/Chicago:20310314T183000
DTEND;TZID=America/Chicago:20310314T200000
LOCATION:
SUMMARY:Board Meeting
END:VEVENT
END:VCALENDAR
