BEGIN:VCALENDAR
VERSION:2.0
PRODID:-//habitat-2021.firespring.org//NONSGML kigkonsult.se iCalcreator 2.
 30.10//
CALSCALE:GREGORIAN
METHOD:PUBLISH
UID:230f4db8-5954-46b2-b3a8-0c16fb24ff6e
X-WR-CALDESC:
X-WR-RELCALID:61da399202b96c12ab056430d0e6c016
X-WR-TIMEZONE:America/Chicago
BEGIN:VTIMEZONE
TZID:America/Chicago
BEGIN:STANDARD
TZNAME:CST
DTSTART:20301103T020000
TZOFFSETFROM:-0500
TZOFFSETTO:-0600
RDATE:20311102T020000
END:STANDARD
BEGIN:DAYLIGHT
TZNAME:CDT
DTSTART:20310309T020000
TZOFFSETFROM:-0600
TZOFFSETTO:-0500
RDATE:20320314T020000
END:DAYLIGHT
END:VTIMEZONE
BEGIN:VEVENT
UID:290d4cfb-6c74-4d2c-b366-202c447b5bdd
DTSTAMP:20260423T181547Z
DESCRIPTION:
DTSTART;TZID=America/Chicago:20310322T090000
DTEND;TZID=America/Chicago:20310322T100000
LOCATION:
SUMMARY:Build It Day
END:VEVENT
END:VCALENDAR
