BEGIN:VCALENDAR
VERSION:2.0
PRODID:-//habitat-2021.firespring.org//NONSGML kigkonsult.se iCalcreator 2.
 30.10//
CALSCALE:GREGORIAN
METHOD:PUBLISH
UID:14e3fc2d-8c15-4c66-a3c5-5055f442203c
X-WR-CALDESC:
X-WR-RELCALID:8368182d775a5e1c1fc32d6612a5b5a8
X-WR-TIMEZONE:America/Chicago
BEGIN:VTIMEZONE
TZID:America/Chicago
BEGIN:STANDARD
TZNAME:CST
DTSTART:20301103T020000
TZOFFSETFROM:-0500
TZOFFSETTO:-0600
RDATE:20311102T020000
END:STANDARD
BEGIN:DAYLIGHT
TZNAME:CDT
DTSTART:20310309T020000
TZOFFSETFROM:-0600
TZOFFSETTO:-0500
RDATE:20320314T020000
END:DAYLIGHT
END:VTIMEZONE
BEGIN:VEVENT
UID:8409d176-61af-4151-a8de-6c1155587bff
DTSTAMP:20260423T194936Z
DESCRIPTION:
DTSTART;TZID=America/Chicago:20310405T090000
DTEND;TZID=America/Chicago:20310405T100000
LOCATION:
SUMMARY:Build It Day
END:VEVENT
END:VCALENDAR
