BEGIN:VCALENDAR
VERSION:2.0
PRODID:-//habitat-2021.firespring.org//NONSGML kigkonsult.se iCalcreator 2.
 30.10//
CALSCALE:GREGORIAN
METHOD:PUBLISH
UID:5f3dca30-8e03-44dd-989f-08d77e5c5396
X-WR-CALDESC:
X-WR-RELCALID:fc23033289a9ae53fd80e11e544e159c
X-WR-TIMEZONE:America/Chicago
BEGIN:VTIMEZONE
TZID:America/Chicago
BEGIN:STANDARD
TZNAME:CST
DTSTART:20301103T020000
TZOFFSETFROM:-0500
TZOFFSETTO:-0600
RDATE:20311102T020000
END:STANDARD
BEGIN:DAYLIGHT
TZNAME:CDT
DTSTART:20310309T020000
TZOFFSETFROM:-0600
TZOFFSETTO:-0500
RDATE:20320314T020000
END:DAYLIGHT
END:VTIMEZONE
BEGIN:VEVENT
UID:5a8889e0-49c1-44f6-ab66-e3db6aba71c4
DTSTAMP:20260423T194324Z
DESCRIPTION:
DTSTART;TZID=America/Chicago:20310411T183000
DTEND;TZID=America/Chicago:20310411T200000
LOCATION:
SUMMARY:Board Meeting
END:VEVENT
END:VCALENDAR
