BEGIN:VCALENDAR
VERSION:2.0
PRODID:-//habitat-2021.firespring.org//NONSGML kigkonsult.se iCalcreator 2.
 30.10//
CALSCALE:GREGORIAN
METHOD:PUBLISH
UID:aec650cc-a2fc-4962-82d3-1eb368a9c598
X-WR-CALDESC:
X-WR-RELCALID:24734b6e1fa03fcbda80c0faff13248d
X-WR-TIMEZONE:America/Chicago
BEGIN:VTIMEZONE
TZID:America/Chicago
BEGIN:STANDARD
TZNAME:CST
DTSTART:20301103T020000
TZOFFSETFROM:-0500
TZOFFSETTO:-0600
RDATE:20311102T020000
END:STANDARD
BEGIN:DAYLIGHT
TZNAME:CDT
DTSTART:20310309T020000
TZOFFSETFROM:-0600
TZOFFSETTO:-0500
RDATE:20320314T020000
END:DAYLIGHT
END:VTIMEZONE
BEGIN:VEVENT
UID:474c2753-ff33-47ba-b9b1-5528fd09d885
DTSTAMP:20260423T193852Z
DESCRIPTION:
DTSTART;TZID=America/Chicago:20310419T090000
DTEND;TZID=America/Chicago:20310419T100000
LOCATION:
SUMMARY:Build It Day
END:VEVENT
END:VCALENDAR
