BEGIN:VCALENDAR
VERSION:2.0
PRODID:-//habitat-2021.firespring.org//NONSGML kigkonsult.se iCalcreator 2.
 30.10//
CALSCALE:GREGORIAN
METHOD:PUBLISH
UID:7a5c1759-1f21-44ee-b9c2-312c9aac5fc3
X-WR-CALDESC:
X-WR-RELCALID:58fe08167637fd414427e0dc4cdb2bb3
X-WR-TIMEZONE:America/Chicago
BEGIN:VTIMEZONE
TZID:America/Chicago
BEGIN:STANDARD
TZNAME:CST
DTSTART:20301103T020000
TZOFFSETFROM:-0500
TZOFFSETTO:-0600
RDATE:20311102T020000
END:STANDARD
BEGIN:DAYLIGHT
TZNAME:CDT
DTSTART:20310309T020000
TZOFFSETFROM:-0600
TZOFFSETTO:-0500
RDATE:20320314T020000
END:DAYLIGHT
END:VTIMEZONE
BEGIN:VEVENT
UID:23689555-9cf2-4169-b8d7-fe58c7b844d9
DTSTAMP:20260423T211515Z
DESCRIPTION:
DTSTART;TZID=America/Chicago:20310503T090000
DTEND;TZID=America/Chicago:20310503T100000
LOCATION:
SUMMARY:Build It Day
END:VEVENT
END:VCALENDAR
