BEGIN:VCALENDAR
VERSION:2.0
PRODID:-//habitat-2021.firespring.org//NONSGML kigkonsult.se iCalcreator 2.
 30.10//
CALSCALE:GREGORIAN
METHOD:PUBLISH
UID:225ea9ec-6974-4ea7-a832-2ef80c9a8418
X-WR-CALDESC:
X-WR-RELCALID:cd154d227efd987cbedcfe7f6a0c4065
X-WR-TIMEZONE:America/Chicago
BEGIN:VTIMEZONE
TZID:America/Chicago
BEGIN:STANDARD
TZNAME:CST
DTSTART:20301103T020000
TZOFFSETFROM:-0500
TZOFFSETTO:-0600
RDATE:20311102T020000
RDATE:20321107T020000
END:STANDARD
BEGIN:DAYLIGHT
TZNAME:CDT
DTSTART:20310309T020000
TZOFFSETFROM:-0600
TZOFFSETTO:-0500
RDATE:20320314T020000
END:DAYLIGHT
END:VTIMEZONE
BEGIN:VEVENT
UID:b8d0496b-dce4-492b-95b5-e4b225df7fa3
DTSTAMP:20260423T213039Z
DESCRIPTION:
DTSTART;TZID=America/Chicago:20310517T090000
DTEND;TZID=America/Chicago:20310517T100000
LOCATION:
SUMMARY:Build It Day
END:VEVENT
END:VCALENDAR
