BEGIN:VCALENDAR
VERSION:2.0
PRODID:-//habitat-2021.firespring.org//NONSGML kigkonsult.se iCalcreator 2.
 30.10//
CALSCALE:GREGORIAN
METHOD:PUBLISH
UID:2ba7920b-b550-4fd6-9729-b51ba9d7787f
X-WR-CALDESC:
X-WR-RELCALID:3a2956e0a3d711449011f6b3abdcb66b
X-WR-TIMEZONE:America/Chicago
BEGIN:VTIMEZONE
TZID:America/Chicago
BEGIN:STANDARD
TZNAME:CST
DTSTART:20301103T020000
TZOFFSETFROM:-0500
TZOFFSETTO:-0600
RDATE:20311102T020000
RDATE:20321107T020000
END:STANDARD
BEGIN:DAYLIGHT
TZNAME:CDT
DTSTART:20310309T020000
TZOFFSETFROM:-0600
TZOFFSETTO:-0500
RDATE:20320314T020000
END:DAYLIGHT
END:VTIMEZONE
BEGIN:VEVENT
UID:e92f62f8-834e-47af-8cf5-d6570f56bb24
DTSTAMP:20260423T224923Z
DESCRIPTION:
DTSTART;TZID=America/Chicago:20310614T090000
DTEND;TZID=America/Chicago:20310614T100000
LOCATION:
SUMMARY:Build It Day
END:VEVENT
END:VCALENDAR
