BEGIN:VCALENDAR
VERSION:2.0
PRODID:-//habitat-2021.firespring.org//NONSGML kigkonsult.se iCalcreator 2.
 30.10//
CALSCALE:GREGORIAN
METHOD:PUBLISH
UID:ca57bfd6-c453-495b-b7e1-51ebcb0163a1
X-WR-CALDESC:
X-WR-RELCALID:c4609e0a5877ec16bb8b27636969b198
X-WR-TIMEZONE:America/Chicago
BEGIN:VTIMEZONE
TZID:America/Chicago
BEGIN:STANDARD
TZNAME:CST
DTSTART:20301103T020000
TZOFFSETFROM:-0500
TZOFFSETTO:-0600
RDATE:20311102T020000
RDATE:20321107T020000
END:STANDARD
BEGIN:DAYLIGHT
TZNAME:CDT
DTSTART:20310309T020000
TZOFFSETFROM:-0600
TZOFFSETTO:-0500
RDATE:20320314T020000
END:DAYLIGHT
END:VTIMEZONE
BEGIN:VEVENT
UID:93384de2-743a-4d3f-aa34-ff27b05188a7
DTSTAMP:20260423T224122Z
DESCRIPTION:
DTSTART;TZID=America/Chicago:20310628T090000
DTEND;TZID=America/Chicago:20310628T100000
LOCATION:
SUMMARY:Build It Day
END:VEVENT
END:VCALENDAR
