BEGIN:VCALENDAR
VERSION:2.0
PRODID:-//habitat-2021.firespring.org//NONSGML kigkonsult.se iCalcreator 2.
 30.10//
CALSCALE:GREGORIAN
METHOD:PUBLISH
UID:c45743d5-07f7-49f1-9de0-0ee5cecd9500
X-WR-CALDESC:
X-WR-RELCALID:a906b0fa8d8d1a6e09701c289261dd49
X-WR-TIMEZONE:America/Chicago
BEGIN:VTIMEZONE
TZID:America/Chicago
BEGIN:STANDARD
TZNAME:CST
DTSTART:20301103T020000
TZOFFSETFROM:-0500
TZOFFSETTO:-0600
RDATE:20311102T020000
RDATE:20321107T020000
END:STANDARD
BEGIN:DAYLIGHT
TZNAME:CDT
DTSTART:20310309T020000
TZOFFSETFROM:-0600
TZOFFSETTO:-0500
RDATE:20320314T020000
END:DAYLIGHT
END:VTIMEZONE
BEGIN:VEVENT
UID:0bbaed09-38d6-47c6-b803-705db8e2a6c7
DTSTAMP:20260424T002523Z
DESCRIPTION:
DTSTART;TZID=America/Chicago:20310712T090000
DTEND;TZID=America/Chicago:20310712T100000
LOCATION:
SUMMARY:Build It Day
END:VEVENT
END:VCALENDAR
