BEGIN:VCALENDAR
VERSION:2.0
PRODID:-//habitat-2021.firespring.org//NONSGML kigkonsult.se iCalcreator 2.
 30.10//
CALSCALE:GREGORIAN
METHOD:PUBLISH
UID:3b402541-6ef5-4bac-bc0e-db564d468008
X-WR-CALDESC:
X-WR-RELCALID:d1c373626bf2a981f036b362e372834c
X-WR-TIMEZONE:America/Chicago
BEGIN:VTIMEZONE
TZID:America/Chicago
BEGIN:STANDARD
TZNAME:CST
DTSTART:20301103T020000
TZOFFSETFROM:-0500
TZOFFSETTO:-0600
RDATE:20311102T020000
RDATE:20321107T020000
END:STANDARD
BEGIN:DAYLIGHT
TZNAME:CDT
DTSTART:20310309T020000
TZOFFSETFROM:-0600
TZOFFSETTO:-0500
RDATE:20320314T020000
END:DAYLIGHT
END:VTIMEZONE
BEGIN:VEVENT
UID:363c6474-70a2-4673-8003-37b4cbfdeca3
DTSTAMP:20260424T001813Z
DESCRIPTION:
DTSTART;TZID=America/Chicago:20310726T090000
DTEND;TZID=America/Chicago:20310726T100000
LOCATION:
SUMMARY:Build It Day
END:VEVENT
END:VCALENDAR
