BEGIN:VCALENDAR
VERSION:2.0
PRODID:-//habitat-2021.firespring.org//NONSGML kigkonsult.se iCalcreator 2.
 30.10//
CALSCALE:GREGORIAN
METHOD:PUBLISH
UID:357dbdf5-2860-4171-9818-810a40bd6694
X-WR-CALDESC:
X-WR-RELCALID:e0c641a329c89f40d26a811e4bd8b097
X-WR-TIMEZONE:America/Chicago
BEGIN:VTIMEZONE
TZID:America/Chicago
BEGIN:STANDARD
TZNAME:CST
DTSTART:20301103T020000
TZOFFSETFROM:-0500
TZOFFSETTO:-0600
RDATE:20311102T020000
RDATE:20321107T020000
END:STANDARD
BEGIN:DAYLIGHT
TZNAME:CDT
DTSTART:20310309T020000
TZOFFSETFROM:-0600
TZOFFSETTO:-0500
RDATE:20320314T020000
END:DAYLIGHT
END:VTIMEZONE
BEGIN:VEVENT
UID:edb97ea0-ccc5-4ef8-8fc8-30cfe6bf93bf
DTSTAMP:20260424T021423Z
DESCRIPTION:
DTSTART;TZID=America/Chicago:20310809T090000
DTEND;TZID=America/Chicago:20310809T100000
LOCATION:
SUMMARY:Build It Day
END:VEVENT
END:VCALENDAR
