BEGIN:VCALENDAR
VERSION:2.0
PRODID:-//habitat-2021.firespring.org//NONSGML kigkonsult.se iCalcreator 2.
 30.10//
CALSCALE:GREGORIAN
METHOD:PUBLISH
UID:bd556ae7-e8bb-4975-bc5c-7031f193f295
X-WR-CALDESC:
X-WR-RELCALID:e1ed96f35f3c0c39282e27d8d1340f0f
X-WR-TIMEZONE:America/Chicago
BEGIN:VTIMEZONE
TZID:America/Chicago
BEGIN:STANDARD
TZNAME:CST
DTSTART:20301103T020000
TZOFFSETFROM:-0500
TZOFFSETTO:-0600
RDATE:20311102T020000
RDATE:20321107T020000
END:STANDARD
BEGIN:DAYLIGHT
TZNAME:CDT
DTSTART:20310309T020000
TZOFFSETFROM:-0600
TZOFFSETTO:-0500
RDATE:20320314T020000
END:DAYLIGHT
END:VTIMEZONE
BEGIN:VEVENT
UID:6eedd9e1-de6b-446c-bd2d-0bf35984fab8
DTSTAMP:20260424T022143Z
DESCRIPTION:
DTSTART;TZID=America/Chicago:20310823T090000
DTEND;TZID=America/Chicago:20310823T100000
LOCATION:
SUMMARY:Build It Day
END:VEVENT
END:VCALENDAR
